BEGIN:VCALENDAR
VERSION:2.0
PRODID:-//Cincinnati Chess Club - ECPv6.5.0//NONSGML v1.0//EN
CALSCALE:GREGORIAN
METHOD:PUBLISH
X-WR-CALNAME:Cincinnati Chess Club
X-ORIGINAL-URL:https://cincinnatichessclub.com
X-WR-CALDESC:Events for Cincinnati Chess Club
REFRESH-INTERVAL;VALUE=DURATION:PT1H
X-Robots-Tag:noindex
X-PUBLISHED-TTL:PT1H
BEGIN:VTIMEZONE
TZID:Asia/Karachi
BEGIN:STANDARD
TZOFFSETFROM:+0500
TZOFFSETTO:+0500
TZNAME:PKT
DTSTART:20210101T000000
END:STANDARD
END:VTIMEZONE
BEGIN:VEVENT
DTSTART;TZID=Asia/Karachi:20210902T190000
DTEND;TZID=Asia/Karachi:20210902T190000
DTSTAMP:20260422T170524
CREATED:20210714T110325Z
LAST-MODIFIED:20210823T120054Z
UID:4757-1630609200-1630609200@cincinnatichessclub.com
SUMMARY:Quads - Entries to King's Island Open as Prizes
DESCRIPTION:
URL:https://cincinnatichessclub.com/event/casual-play-17/
END:VEVENT
END:VCALENDAR