BEGIN:VCALENDAR
VERSION:2.0
PRODID:-//Cincinnati Chess Club - ECPv6.5.0//NONSGML v1.0//EN
CALSCALE:GREGORIAN
METHOD:PUBLISH
X-WR-CALNAME:Cincinnati Chess Club
X-ORIGINAL-URL:https://cincinnatichessclub.com
X-WR-CALDESC:Events for Cincinnati Chess Club
REFRESH-INTERVAL;VALUE=DURATION:PT1H
X-Robots-Tag:noindex
X-PUBLISHED-TTL:PT1H
BEGIN:VTIMEZONE
TZID:Asia/Karachi
BEGIN:STANDARD
TZOFFSETFROM:+0500
TZOFFSETTO:+0500
TZNAME:PKT
DTSTART:20210101T000000
END:STANDARD
END:VTIMEZONE
BEGIN:VEVENT
DTSTART;TZID=Asia/Karachi:20210909T190000
DTEND;TZID=Asia/Karachi:20210909T190000
DTSTAMP:20260422T164820
CREATED:20210714T105436Z
LAST-MODIFIED:20210714T105436Z
UID:4749-1631214000-1631214000@cincinnatichessclub.com
SUMMARY:"No Strings Attached" Chess
DESCRIPTION:One round.  #1 seed plays #2\, 3 plays 4\, etc. \nEntry fee: $5\nEach winner gets $5.\n7pm.
URL:https://cincinnatichessclub.com/event/no-strings-attached-chess-2/
END:VEVENT
END:VCALENDAR