BEGIN:VCALENDAR
VERSION:2.0
PRODID:-//Cincinnati Chess Club - ECPv6.5.0//NONSGML v1.0//EN
CALSCALE:GREGORIAN
METHOD:PUBLISH
X-WR-CALNAME:Cincinnati Chess Club
X-ORIGINAL-URL:https://cincinnatichessclub.com
X-WR-CALDESC:Events for Cincinnati Chess Club
REFRESH-INTERVAL;VALUE=DURATION:PT1H
X-Robots-Tag:noindex
X-PUBLISHED-TTL:PT1H
BEGIN:VTIMEZONE
TZID:Asia/Karachi
BEGIN:STANDARD
TZOFFSETFROM:+0500
TZOFFSETTO:+0500
TZNAME:PKT
DTSTART:20210101T000000
END:STANDARD
END:VTIMEZONE
BEGIN:VEVENT
DTSTART;TZID=Asia/Karachi:20210930T193000
DTEND;TZID=Asia/Karachi:20210930T230000
DTSTAMP:20260422T095705
CREATED:20210909T022233Z
LAST-MODIFIED:20210930T093622Z
UID:4802-1633030200-1633042800@cincinnatichessclub.com
SUMMARY:Bughouse Night
DESCRIPTION:Come play Bughouse Chess - learn about it here if you're not familiar.
URL:https://cincinnatichessclub.com/event/bughouse-night/
LOCATION:Municipal Building\, 7777 Blue Ash Road\, Cincinnati\, OH\, 45236\, United States
END:VEVENT
END:VCALENDAR