BEGIN:VCALENDAR
VERSION:2.0
PRODID:-//Cincinnati Chess Club - ECPv6.5.0//NONSGML v1.0//EN
CALSCALE:GREGORIAN
METHOD:PUBLISH
X-WR-CALNAME:Cincinnati Chess Club
X-ORIGINAL-URL:https://cincinnatichessclub.com
X-WR-CALDESC:Events for Cincinnati Chess Club
REFRESH-INTERVAL;VALUE=DURATION:PT1H
X-Robots-Tag:noindex
X-PUBLISHED-TTL:PT1H
BEGIN:VTIMEZONE
TZID:Asia/Karachi
BEGIN:STANDARD
TZOFFSETFROM:+0500
TZOFFSETTO:+0500
TZNAME:PKT
DTSTART:20210101T000000
END:STANDARD
END:VTIMEZONE
BEGIN:VEVENT
DTSTART;TZID=Asia/Karachi:20211021T193000
DTEND;TZID=Asia/Karachi:20211021T230000
DTSTAMP:20260422T093056
CREATED:20210923T053048Z
LAST-MODIFIED:20210923T053048Z
UID:4818-1634844600-1634857200@cincinnatichessclub.com
SUMMARY:Experience vs Youth
DESCRIPTION:The older players compete vs. the younger ones.  No entry fee\, not rated - this is just for fun.
URL:https://cincinnatichessclub.com/event/2021-oct-experience-vs-youth/
LOCATION:Deer Park Community Center\, 7640 Plainfield Road\, Cincinnati\, OH\, 45236\, United States
END:VEVENT
END:VCALENDAR