BEGIN:VCALENDAR
VERSION:2.0
PRODID:-//Cincinnati Chess Club - ECPv6.5.0//NONSGML v1.0//EN
CALSCALE:GREGORIAN
METHOD:PUBLISH
X-ORIGINAL-URL:https://cincinnatichessclub.com
X-WR-CALDESC:Events for Cincinnati Chess Club
REFRESH-INTERVAL;VALUE=DURATION:PT1H
X-Robots-Tag:noindex
X-PUBLISHED-TTL:PT1H
BEGIN:VTIMEZONE
TZID:Asia/Karachi
BEGIN:STANDARD
TZOFFSETFROM:+0500
TZOFFSETTO:+0500
TZNAME:PKT
DTSTART:20210101T000000
END:STANDARD
END:VTIMEZONE
BEGIN:VEVENT
DTSTART;TZID=Asia/Karachi:20211104T190000
DTEND;TZID=Asia/Karachi:20211104T220000
DTSTAMP:20260422T034417
CREATED:20211023T042404Z
LAST-MODIFIED:20211023T042404Z
UID:4876-1636052400-1636063200@cincinnatichessclub.com
SUMMARY:Blitz Tournament
DESCRIPTION:Join us for a Blitz tournament - $5 entry fee\, G/5\, no delay or increment.  This is not rated\, so USCF membership is not required.  80% of the entry fees will be awarded as prizes.  First round starts at 7:30 P.M.
URL:https://cincinnatichessclub.com/event/blitz-tournament/
LOCATION:Deer Park Community Center\, 7640 Plainfield Road\, Cincinnati\, OH\, 45236\, United States
END:VEVENT
END:VCALENDAR