BEGIN:VCALENDAR
VERSION:2.0
PRODID:-//Cincinnati Chess Club - ECPv6.5.0//NONSGML v1.0//EN
CALSCALE:GREGORIAN
METHOD:PUBLISH
X-ORIGINAL-URL:https://cincinnatichessclub.com
X-WR-CALDESC:Events for Cincinnati Chess Club
REFRESH-INTERVAL;VALUE=DURATION:PT1H
X-Robots-Tag:noindex
X-PUBLISHED-TTL:PT1H
BEGIN:VTIMEZONE
TZID:Asia/Karachi
BEGIN:STANDARD
TZOFFSETFROM:+0500
TZOFFSETTO:+0500
TZNAME:PKT
DTSTART:20210101T000000
END:STANDARD
END:VTIMEZONE
BEGIN:VEVENT
DTSTART;TZID=Asia/Karachi:20211202T190000
DTEND;TZID=Asia/Karachi:20211202T220000
DTSTAMP:20260422T022024
CREATED:20211023T042837Z
LAST-MODIFIED:20211104T070242Z
UID:4881-1638471600-1638482400@cincinnatichessclub.com
SUMMARY:December NSA
DESCRIPTION:One round\, G/60;d5. Seeded by rating.  #1 seed plays #2\, 4 plays 3\, etc. \nEntry fee: $5\nEach winner gets $5.\n7pm.
URL:https://cincinnatichessclub.com/event/4881/
LOCATION:Deer Park Community Center\, 7640 Plainfield Road\, Cincinnati\, OH\, 45236\, United States
END:VEVENT
END:VCALENDAR