BEGIN:VCALENDAR
VERSION:2.0
PRODID:-//Cincinnati Chess Club - ECPv6.5.0//NONSGML v1.0//EN
CALSCALE:GREGORIAN
METHOD:PUBLISH
X-ORIGINAL-URL:https://cincinnatichessclub.com
X-WR-CALDESC:Events for Cincinnati Chess Club
REFRESH-INTERVAL;VALUE=DURATION:PT1H
X-Robots-Tag:noindex
X-PUBLISHED-TTL:PT1H
BEGIN:VTIMEZONE
TZID:Asia/Karachi
BEGIN:STANDARD
TZOFFSETFROM:+0500
TZOFFSETTO:+0500
TZNAME:PKT
DTSTART:20210101T000000
END:STANDARD
END:VTIMEZONE
BEGIN:VEVENT
DTSTART;TZID=Asia/Karachi:20211230T190000
DTEND;TZID=Asia/Karachi:20211230T220000
DTSTAMP:20260422T064658
CREATED:20211023T042952Z
LAST-MODIFIED:20211203T054553Z
UID:4883-1640890800-1640901600@cincinnatichessclub.com
SUMMARY:Russ Wilson Lecture
DESCRIPTION:Russ Wilson will be giving a lecture at 8 P.M.  This lecture is free and open to everyone.
URL:https://cincinnatichessclub.com/event/russ-wilson/
LOCATION:Deer Park Community Center\, 7640 Plainfield Road\, Cincinnati\, OH\, 45236\, United States
END:VEVENT
END:VCALENDAR