BEGIN:VCALENDAR
VERSION:2.0
PRODID:-//Cincinnati Chess Club - ECPv6.5.0//NONSGML v1.0//EN
CALSCALE:GREGORIAN
METHOD:PUBLISH
X-WR-CALNAME:Cincinnati Chess Club
X-ORIGINAL-URL:https://cincinnatichessclub.com
X-WR-CALDESC:Events for Cincinnati Chess Club
REFRESH-INTERVAL;VALUE=DURATION:PT1H
X-Robots-Tag:noindex
X-PUBLISHED-TTL:PT1H
BEGIN:VTIMEZONE
TZID:Asia/Karachi
BEGIN:STANDARD
TZOFFSETFROM:+0500
TZOFFSETTO:+0500
TZNAME:PKT
DTSTART:20220101T000000
END:STANDARD
END:VTIMEZONE
BEGIN:VEVENT
DTSTART;TZID=Asia/Karachi:20220106T190000
DTEND;TZID=Asia/Karachi:20220106T220000
DTSTAMP:20260421T233507
CREATED:20211231T101600Z
LAST-MODIFIED:20211231T101600Z
UID:4913-1641495600-1641506400@cincinnatichessclub.com
SUMMARY:January NSA
DESCRIPTION:One round\, G/60;d5. Seeded by rating. #1 seed plays #2\, 4 plays 3\, etc. Entry fee: $5 Each winner gets $5. 7pm.
URL:https://cincinnatichessclub.com/event/january-nsa/
LOCATION:Deer Park Community Center\, 7640 Plainfield Road\, Cincinnati\, OH\, 45236\, United States
END:VEVENT
END:VCALENDAR