BEGIN:VCALENDAR
VERSION:2.0
PRODID:-//Cincinnati Chess Club - ECPv6.5.0//NONSGML v1.0//EN
CALSCALE:GREGORIAN
METHOD:PUBLISH
X-ORIGINAL-URL:https://cincinnatichessclub.com
X-WR-CALDESC:Events for Cincinnati Chess Club
REFRESH-INTERVAL;VALUE=DURATION:PT1H
X-Robots-Tag:noindex
X-PUBLISHED-TTL:PT1H
BEGIN:VTIMEZONE
TZID:America/Detroit
BEGIN:DAYLIGHT
TZOFFSETFROM:-0500
TZOFFSETTO:-0400
TZNAME:EDT
DTSTART:20220313T070000
END:DAYLIGHT
BEGIN:STANDARD
TZOFFSETFROM:-0400
TZOFFSETTO:-0500
TZNAME:EST
DTSTART:20221106T060000
END:STANDARD
END:VTIMEZONE
BEGIN:VEVENT
DTSTART;TZID=America/Detroit:20220217T180000
DTEND;TZID=America/Detroit:20220217T220000
DTSTAMP:20260421T203418
CREATED:20220217T220246Z
LAST-MODIFIED:20220217T220246Z
UID:5023-1645120800-1645135200@cincinnatichessclub.com
SUMMARY:Quads for Cincinnati Open
DESCRIPTION:A quad is a four-player round robin. You will play 3 games with people in your section. Time controls will be G/30;d5. Registration starts at 6:15. Entry fee is $30 per person. USCF membership is required and notation must be taken. The 1st 4 players registered for each section will be a quad. There will be more than 1 quad in each section if enough players are present. Please try to register early to guarantee you get a spot. \nRound 1 starts at 7pm. Rounds 2 & 3 will be 5 minutes after the last game is finished in your quad. \nPrizes are 1 entry to the 2022 Cincinnati Open per quad. Each entry is a $115 value. \nSections are as follows: \n\nChampionship section. Only for those rated over 1700.\nUnder 2100\nUnder 1700\nUnder 1300\n\nTies in a quad will be decided by computer tiebreak (Solkoff variation).
URL:https://cincinnatichessclub.com/event/quads-for-cincinnati-open/
LOCATION:Deer Park Community Center\, 7640 Plainfield Road\, Cincinnati\, OH\, 45236\, United States
END:VEVENT
END:VCALENDAR