BEGIN:VCALENDAR
VERSION:2.0
PRODID:-//Cincinnati Chess Club - ECPv6.5.0//NONSGML v1.0//EN
CALSCALE:GREGORIAN
METHOD:PUBLISH
X-WR-CALNAME:Cincinnati Chess Club
X-ORIGINAL-URL:https://cincinnatichessclub.com
X-WR-CALDESC:Events for Cincinnati Chess Club
REFRESH-INTERVAL;VALUE=DURATION:PT1H
X-Robots-Tag:noindex
X-PUBLISHED-TTL:PT1H
BEGIN:VTIMEZONE
TZID:Asia/Karachi
BEGIN:STANDARD
TZOFFSETFROM:+0500
TZOFFSETTO:+0500
TZNAME:PKT
DTSTART:20220101T000000
END:STANDARD
END:VTIMEZONE
BEGIN:VEVENT
DTSTART;TZID=Asia/Karachi:20220714T183000
DTEND;TZID=Asia/Karachi:20220714T223000
DTSTAMP:20260421T080724
CREATED:20220211T083736Z
LAST-MODIFIED:20220211T083736Z
UID:4996-1657823400-1657837800@cincinnatichessclub.com
SUMMARY:Blitz Tournament
DESCRIPTION:We will be hosting a Blitz tournament. Games will be 3+2 (Three minutes\, with a two-second increment)\, and are unrated.  The entry fee is $5 - USCF membership is not required.  Games start at 7:30 P.M. \nIf you do not want to play\, there will be casual play going on at the same time.
URL:https://cincinnatichessclub.com/event/2022-july-blitz/
LOCATION:Deer Park Community Center\, 7640 Plainfield Road\, Cincinnati\, OH\, 45236\, United States
END:VEVENT
END:VCALENDAR