BEGIN:VCALENDAR
VERSION:2.0
PRODID:-//Cincinnati Chess Club - ECPv6.5.0//NONSGML v1.0//EN
CALSCALE:GREGORIAN
METHOD:PUBLISH
X-ORIGINAL-URL:https://cincinnatichessclub.com
X-WR-CALDESC:Events for Cincinnati Chess Club
REFRESH-INTERVAL;VALUE=DURATION:PT1H
X-Robots-Tag:noindex
X-PUBLISHED-TTL:PT1H
BEGIN:VTIMEZONE
TZID:America/Detroit
BEGIN:DAYLIGHT
TZOFFSETFROM:-0500
TZOFFSETTO:-0400
TZNAME:EDT
DTSTART:20220313T070000
END:DAYLIGHT
BEGIN:STANDARD
TZOFFSETFROM:-0400
TZOFFSETTO:-0500
TZNAME:EST
DTSTART:20221106T060000
END:STANDARD
END:VTIMEZONE
BEGIN:VEVENT
DTSTART;TZID=America/Detroit:20220716T113000
DTEND;TZID=America/Detroit:20220716T190000
DTSTAMP:20260421T091330
CREATED:20220622T012204Z
LAST-MODIFIED:20220623T151813Z
UID:5185-1657971000-1657998000@cincinnatichessclub.com
SUMMARY:Cincy Tornado
DESCRIPTION:Four rounds\, Swiss System.  G/45;d5 - these are Dual-rated games\, and do require keeping notation.  USCF membership is required.  Rounds start at 12:00\, 1:45\, 3:45\, and 5:30.\n\nThe entry fee is $35\, and there are several prizes.\nIn the Open section\, $150 for first place\, $80 for second place\, and the top player under 2000 gets $40.\nIn the under-1600 section\, $150 for first place\, $80 for second place\, and the top player under 1000 gets $40.\nThere is also a prize of $20 for the person with the highest rating gain but not winning a class prize.\nPrizes are based on fifteen entrants per section.\n\nThis is at a new site\, Friendship United Methodist Church\, 1025 Springfield Pike\, Wyoming\, OH 45215.
URL:https://cincinnatichessclub.com/event/2022-july-tornado/
LOCATION:Friendship UMC\, 1025 Springfield Pike\, Wyoming\, OH\, 45215\, United States
END:VEVENT
END:VCALENDAR