BEGIN:VCALENDAR
VERSION:2.0
PRODID:-//Cincinnati Chess Club - ECPv6.5.0//NONSGML v1.0//EN
CALSCALE:GREGORIAN
METHOD:PUBLISH
X-WR-CALNAME:Cincinnati Chess Club
X-ORIGINAL-URL:https://cincinnatichessclub.com
X-WR-CALDESC:Events for Cincinnati Chess Club
REFRESH-INTERVAL;VALUE=DURATION:PT1H
X-Robots-Tag:noindex
X-PUBLISHED-TTL:PT1H
BEGIN:VTIMEZONE
TZID:America/Detroit
BEGIN:DAYLIGHT
TZOFFSETFROM:-0500
TZOFFSETTO:-0400
TZNAME:EDT
DTSTART:20230312T070000
END:DAYLIGHT
BEGIN:STANDARD
TZOFFSETFROM:-0400
TZOFFSETTO:-0500
TZNAME:EST
DTSTART:20231105T060000
END:STANDARD
END:VTIMEZONE
BEGIN:VEVENT
DTSTART;TZID=America/Detroit:20230202T183000
DTEND;TZID=America/Detroit:20230202T230000
DTSTAMP:20260419T190924
CREATED:20230110T100200Z
LAST-MODIFIED:20230218T230108Z
UID:5120-1675362600-1675378800@cincinnatichessclub.com
SUMMARY:Hans Multhopp Lecture
DESCRIPTION:Hans will be giving a free lecture at 7 P.M.\, open to the public.  The topic is TBD.  Before\, during\, and after\, there will be casual games available.
URL:https://cincinnatichessclub.com/event/2023-hans-multhopp-lecture/
LOCATION:Deer Park Community Center\, 7640 Plainfield Road\, Cincinnati\, OH\, 45236\, United States
END:VEVENT
END:VCALENDAR