BEGIN:VCALENDAR
VERSION:2.0
PRODID:-//Cincinnati Chess Club - ECPv6.5.0//NONSGML v1.0//EN
CALSCALE:GREGORIAN
METHOD:PUBLISH
X-ORIGINAL-URL:https://cincinnatichessclub.com
X-WR-CALDESC:Events for Cincinnati Chess Club
REFRESH-INTERVAL;VALUE=DURATION:PT1H
X-Robots-Tag:noindex
X-PUBLISHED-TTL:PT1H
BEGIN:VTIMEZONE
TZID:America/Detroit
BEGIN:DAYLIGHT
TZOFFSETFROM:-0500
TZOFFSETTO:-0400
TZNAME:EDT
DTSTART:20240310T070000
END:DAYLIGHT
BEGIN:STANDARD
TZOFFSETFROM:-0400
TZOFFSETTO:-0500
TZNAME:EST
DTSTART:20241103T060000
END:STANDARD
END:VTIMEZONE
BEGIN:VEVENT
DTSTART;TZID=America/Detroit:20240314T183000
DTEND;TZID=America/Detroit:20240314T223000
DTSTAMP:20260419T204659
CREATED:20240219T033325Z
LAST-MODIFIED:20240219T033327Z
UID:5650-1710441000-1710455400@cincinnatichessclub.com
SUMMARY:Youth vs. Experience Tournament
DESCRIPTION:Our older players compete against our younger ones.  This tournament is not rated\, and has no entry fee - it's just for fun!  The tournament starts at 7:30 P.M.
URL:https://cincinnatichessclub.com/event/youth-vs-experience-tournament/
LOCATION:Deer Park Community Center\, 7640 Plainfield Road\, Cincinnati\, OH\, 45236\, United States
END:VEVENT
END:VCALENDAR