BEGIN:VCALENDAR
VERSION:2.0
PRODID:-//Cincinnati Chess Club - ECPv6.5.0//NONSGML v1.0//EN
CALSCALE:GREGORIAN
METHOD:PUBLISH
X-ORIGINAL-URL:https://cincinnatichessclub.com
X-WR-CALDESC:Events for Cincinnati Chess Club
REFRESH-INTERVAL;VALUE=DURATION:PT1H
X-Robots-Tag:noindex
X-PUBLISHED-TTL:PT1H
BEGIN:VTIMEZONE
TZID:America/Detroit
BEGIN:DAYLIGHT
TZOFFSETFROM:-0500
TZOFFSETTO:-0400
TZNAME:EDT
DTSTART:20240310T070000
END:DAYLIGHT
BEGIN:STANDARD
TZOFFSETFROM:-0400
TZOFFSETTO:-0500
TZNAME:EST
DTSTART:20241103T060000
END:STANDARD
END:VTIMEZONE
BEGIN:VEVENT
DTSTART;TZID=America/Detroit:20240516T183000
DTEND;TZID=America/Detroit:20240516T230000
DTSTAMP:20260419T152838
CREATED:20240419T155055Z
LAST-MODIFIED:20240419T155057Z
UID:5679-1715884200-1715900400@cincinnatichessclub.com
SUMMARY:ECO Tournament
DESCRIPTION:Try your luck playing random openings. We'll pick them from an opening book\, and start playing. \n\n\n\nThere will be 4 or 5 rounds\, G/15;d5 time control\, $5 entry fee. This is not rated\, and does not require any membership. \n\n\n\nAs always\, there will be casual play.
URL:https://cincinnatichessclub.com/event/eco-tournament-2/
LOCATION:Deer Park Community Center\, 7640 Plainfield Road\, Cincinnati\, OH\, 45236\, United States
END:VEVENT
END:VCALENDAR