BEGIN:VCALENDAR
VERSION:2.0
PRODID:-//Cincinnati Chess Club - ECPv6.5.0//NONSGML v1.0//EN
CALSCALE:GREGORIAN
METHOD:PUBLISH
X-ORIGINAL-URL:https://cincinnatichessclub.com
X-WR-CALDESC:Events for Cincinnati Chess Club
REFRESH-INTERVAL;VALUE=DURATION:PT1H
X-Robots-Tag:noindex
X-PUBLISHED-TTL:PT1H
BEGIN:VTIMEZONE
TZID:America/Detroit
BEGIN:DAYLIGHT
TZOFFSETFROM:-0500
TZOFFSETTO:-0400
TZNAME:EDT
DTSTART:20240310T070000
END:DAYLIGHT
BEGIN:STANDARD
TZOFFSETFROM:-0400
TZOFFSETTO:-0500
TZNAME:EST
DTSTART:20241103T060000
END:STANDARD
END:VTIMEZONE
BEGIN:VEVENT
DTSTART;TZID=America/Detroit:20240723T170000
DTEND;TZID=America/Detroit:20240723T203000
DTSTAMP:20260419T131056
CREATED:20240702T193842Z
LAST-MODIFIED:20240702T193842Z
UID:5749-1721754000-1721766600@cincinnatichessclub.com
SUMMARY:Spaghetti Dinner
DESCRIPTION:Please come out and support our kids on Tues\, July 23rd for an all you can eat spaghetti & pizza dinner.  Stop by anytime between 5 & 8:30. \n\n\n\nIt will be at LaRosa's in Mason\,  6674 Triway Dr.\, Mason\, OH 45040. The cost is $20 per person - you can pre-pay through PayPal here. \n\n\n\nCome challenge one of our 3-time championship team members to a blitz game.  Eat some great food and enjoy the fellowship.  All proceeds will go towards the kids' entry fees to the Queen City Classic chess tournament.  If you can't make it and still want to support the kids\, you can buy a ticket and put Donation in the name box.  Thank you and hope to see you there. \n\n\n\nFlyers for this event are available in PNG or PDF format.
URL:https://cincinnatichessclub.com/event/spaghetti-dinner/
LOCATION:LaRosa's Mason\, 6674 Triway Dr.\, Mason\, OH\, 45040\, United States
END:VEVENT
END:VCALENDAR