BEGIN:VCALENDAR
VERSION:2.0
PRODID:-//Cincinnati Chess Club - ECPv6.5.0//NONSGML v1.0//EN
CALSCALE:GREGORIAN
METHOD:PUBLISH
X-WR-CALNAME:Cincinnati Chess Club
X-ORIGINAL-URL:https://cincinnatichessclub.com
X-WR-CALDESC:Events for Cincinnati Chess Club
REFRESH-INTERVAL;VALUE=DURATION:PT1H
X-Robots-Tag:noindex
X-PUBLISHED-TTL:PT1H
BEGIN:VTIMEZONE
TZID:America/Detroit
BEGIN:DAYLIGHT
TZOFFSETFROM:-0500
TZOFFSETTO:-0400
TZNAME:EDT
DTSTART:20250309T070000
END:DAYLIGHT
BEGIN:STANDARD
TZOFFSETFROM:-0400
TZOFFSETTO:-0500
TZNAME:EST
DTSTART:20251102T060000
END:STANDARD
END:VTIMEZONE
BEGIN:VEVENT
DTSTART;TZID=America/Detroit:20250306T183000
DTEND;TZID=America/Detroit:20250306T230000
DTSTAMP:20260419T191203
CREATED:20250208T194330Z
LAST-MODIFIED:20250208T194330Z
UID:5899-1741285800-1741302000@cincinnatichessclub.com
SUMMARY:Casual chess + Pizza Night + Business Meeting
DESCRIPTION:Join us for casual gameplay\, as well as pizza for our club members.Business meeting will start at 7:30 P.M. All members are welcome to participate.There will be casual play going all night.
URL:https://cincinnatichessclub.com/event/casual-chess-pizza-night-business-meeting/
LOCATION:7640 Plainfield Rd\, Cincinnati\, OH 45236
END:VEVENT
END:VCALENDAR