BEGIN:VCALENDAR
VERSION:2.0
PRODID:-//Cincinnati Chess Club - ECPv6.5.0//NONSGML v1.0//EN
CALSCALE:GREGORIAN
METHOD:PUBLISH
X-ORIGINAL-URL:https://cincinnatichessclub.com
X-WR-CALDESC:Events for Cincinnati Chess Club
REFRESH-INTERVAL;VALUE=DURATION:PT1H
X-Robots-Tag:noindex
X-PUBLISHED-TTL:PT1H
BEGIN:VTIMEZONE
TZID:America/Detroit
BEGIN:DAYLIGHT
TZOFFSETFROM:-0500
TZOFFSETTO:-0400
TZNAME:EDT
DTSTART:20250309T070000
END:DAYLIGHT
BEGIN:STANDARD
TZOFFSETFROM:-0400
TZOFFSETTO:-0500
TZNAME:EST
DTSTART:20251102T060000
END:STANDARD
END:VTIMEZONE
BEGIN:VEVENT
DTSTART;TZID=America/Detroit:20250424T183000
DTEND;TZID=America/Detroit:20250424T230000
DTSTAMP:20260419T222016
CREATED:20250311T142835Z
LAST-MODIFIED:20250311T142835Z
UID:5923-1745519400-1745535600@cincinnatichessclub.com
SUMMARY:Hand and Brain Tournament
DESCRIPTION:Join us for  Hand & Brain Tournament. This format is one of the most fun. Teams of two compete. One person\, the brain\, names a type of piece (King\, Queen\, Rook\, Bishop\, Knight\, Pawn)\, and the other person\, the hand moves any piece of that type any legal move. \n\n\n\nThere is no entry fee for this tournament\, and it is not rated. Games begin at 7:00 P.M. \n\n\n\nThere will be casual chess as well.
URL:https://cincinnatichessclub.com/event/hand-and-brain-tournament/
LOCATION:Cincinnati Chess Club\, 7640 Plainfield Rd\, Cincinnati\, OH 45236
END:VEVENT
END:VCALENDAR