BEGIN:VCALENDAR
VERSION:2.0
PRODID:-//Cincinnati Chess Club - ECPv6.5.0//NONSGML v1.0//EN
CALSCALE:GREGORIAN
METHOD:PUBLISH
X-WR-CALNAME:Cincinnati Chess Club
X-ORIGINAL-URL:https://cincinnatichessclub.com
X-WR-CALDESC:Events for Cincinnati Chess Club
REFRESH-INTERVAL;VALUE=DURATION:PT1H
X-Robots-Tag:noindex
X-PUBLISHED-TTL:PT1H
BEGIN:VTIMEZONE
TZID:Asia/Karachi
BEGIN:STANDARD
TZOFFSETFROM:+0500
TZOFFSETTO:+0500
TZNAME:PKT
DTSTART:20210101T000000
END:STANDARD
END:VTIMEZONE
BEGIN:VEVENT
DTSTART;TZID=Asia/Karachi:20210701T190000
DTEND;TZID=Asia/Karachi:20210701T190000
DTSTAMP:20260422T131100
CREATED:20210714T104600Z
LAST-MODIFIED:20210714T104600Z
UID:4735-1625166000-1625166000@cincinnatichessclub.com
SUMMARY:Casual Play
DESCRIPTION:
URL:https://cincinnatichessclub.com/event/casual-play-6/
END:VEVENT
BEGIN:VEVENT
DTSTART;TZID=Asia/Karachi:20210702T190000
DTEND;TZID=Asia/Karachi:20210702T190000
DTSTAMP:20260422T131100
CREATED:20210714T104010Z
LAST-MODIFIED:20210714T113453Z
UID:4727-1625252400-1625252400@cincinnatichessclub.com
SUMMARY:Club Championship - Round 2
DESCRIPTION:Club Championship\nLocated at the Deer Park Municipal Building\, 7777 Blue Ash Rd.\, Deer Park OH\, 45236.  Club Championship rounds are on Fridays. \nEntry fee: $30\n5-round Swiss\nGame in 90\, with 5-second delay.\n80% of entries given as prizes.
URL:https://cincinnatichessclub.com/event/club-championship-round-2-2/
END:VEVENT
BEGIN:VEVENT
DTSTART;TZID=Asia/Karachi:20210708T190000
DTEND;TZID=Asia/Karachi:20210708T190000
DTSTAMP:20260422T131100
CREATED:20210714T104633Z
LAST-MODIFIED:20210714T104633Z
UID:4737-1625770800-1625770800@cincinnatichessclub.com
SUMMARY:Casual Play
DESCRIPTION:
URL:https://cincinnatichessclub.com/event/casual-play-12/
END:VEVENT
BEGIN:VEVENT
DTSTART;TZID=Asia/Karachi:20210709T190000
DTEND;TZID=Asia/Karachi:20210709T190000
DTSTAMP:20260422T131100
CREATED:20210714T104119Z
LAST-MODIFIED:20210714T113507Z
UID:4729-1625857200-1625857200@cincinnatichessclub.com
SUMMARY:Club Championship - Round 3
DESCRIPTION:Club Championship\nLocated at the Deer Park Municipal Building\, 7777 Blue Ash Rd.\, Deer Park OH\, 45236.  Club Championship rounds are on Fridays. \nEntry fee: $30\n5-round Swiss\nGame in 90\, with 5-second delay.\n80% of entries given as prizes.
URL:https://cincinnatichessclub.com/event/club-championship-round-3-2/
END:VEVENT
BEGIN:VEVENT
DTSTART;TZID=Asia/Karachi:20210715T190000
DTEND;TZID=Asia/Karachi:20210715T190000
DTSTAMP:20260422T131100
CREATED:20210714T104726Z
LAST-MODIFIED:20210714T104726Z
UID:4739-1626375600-1626375600@cincinnatichessclub.com
SUMMARY:Casual Play
DESCRIPTION:
URL:https://cincinnatichessclub.com/event/casual-play-13/
END:VEVENT
BEGIN:VEVENT
DTSTART;TZID=Asia/Karachi:20210716T190000
DTEND;TZID=Asia/Karachi:20210716T190000
DTSTAMP:20260422T131100
CREATED:20210714T104241Z
LAST-MODIFIED:20210714T113523Z
UID:4731-1626462000-1626462000@cincinnatichessclub.com
SUMMARY:Club Championship - Round 4
DESCRIPTION:Club Championship\nLocated at the Deer Park Municipal Building\, 7777 Blue Ash Rd.\, Deer Park OH\, 45236.  Club Championship rounds are on Fridays. \nEntry fee: $30\n5-round Swiss\nGame in 90\, with 5-second delay.\n80% of entries given as prizes.
URL:https://cincinnatichessclub.com/event/club-championship-round-4-2/
END:VEVENT
BEGIN:VEVENT
DTSTART;TZID=Asia/Karachi:20210722T190000
DTEND;TZID=Asia/Karachi:20210722T190000
DTSTAMP:20260422T131100
CREATED:20210714T104750Z
LAST-MODIFIED:20210714T104750Z
UID:4741-1626980400-1626980400@cincinnatichessclub.com
SUMMARY:Casual Play
DESCRIPTION:
URL:https://cincinnatichessclub.com/event/casual-play-14/
END:VEVENT
BEGIN:VEVENT
DTSTART;TZID=Asia/Karachi:20210723T190000
DTEND;TZID=Asia/Karachi:20210723T190000
DTSTAMP:20260422T131100
CREATED:20210714T104359Z
LAST-MODIFIED:20210714T113539Z
UID:4733-1627066800-1627066800@cincinnatichessclub.com
SUMMARY:Club Championship - Round 5
DESCRIPTION:Club Championship\nLocated at the Deer Park Municipal Building\, 7777 Blue Ash Rd.\, Deer Park OH\, 45236.  Club Championship rounds are on Fridays. \nEntry fee: $30\n5-round Swiss\nGame in 90\, with 5-second delay.\n80% of entries given as prizes.
URL:https://cincinnatichessclub.com/event/club-championship-round-5-2/
END:VEVENT
BEGIN:VEVENT
DTSTART;TZID=Asia/Karachi:20210729T190000
DTEND;TZID=Asia/Karachi:20210729T190000
DTSTAMP:20260422T131100
CREATED:20210714T104812Z
LAST-MODIFIED:20210714T104812Z
UID:4743-1627585200-1627585200@cincinnatichessclub.com
SUMMARY:Casual Play
DESCRIPTION:
URL:https://cincinnatichessclub.com/event/casual-play-15/
END:VEVENT
END:VCALENDAR