BEGIN:VCALENDAR
VERSION:2.0
PRODID:-//Cincinnati Chess Club - ECPv6.5.0//NONSGML v1.0//EN
CALSCALE:GREGORIAN
METHOD:PUBLISH
X-WR-CALNAME:Cincinnati Chess Club
X-ORIGINAL-URL:https://cincinnatichessclub.com
X-WR-CALDESC:Events for Cincinnati Chess Club
REFRESH-INTERVAL;VALUE=DURATION:PT1H
X-Robots-Tag:noindex
X-PUBLISHED-TTL:PT1H
BEGIN:VTIMEZONE
TZID:Asia/Karachi
BEGIN:STANDARD
TZOFFSETFROM:+0500
TZOFFSETTO:+0500
TZNAME:PKT
DTSTART:20210101T000000
END:STANDARD
END:VTIMEZONE
BEGIN:VEVENT
DTSTART;TZID=Asia/Karachi:20210805T190000
DTEND;TZID=Asia/Karachi:20210805T190000
DTSTAMP:20260422T114043
CREATED:20210714T104842Z
LAST-MODIFIED:20210714T104842Z
UID:4745-1628190000-1628190000@cincinnatichessclub.com
SUMMARY:Casual Play
DESCRIPTION:
URL:https://cincinnatichessclub.com/event/casual-play-16/
END:VEVENT
BEGIN:VEVENT
DTSTART;TZID=Asia/Karachi:20210812T190000
DTEND;TZID=Asia/Karachi:20210812T190000
DTSTAMP:20260422T114043
CREATED:20210714T105326Z
LAST-MODIFIED:20210714T105326Z
UID:4747-1628794800-1628794800@cincinnatichessclub.com
SUMMARY:"No Strings Attached" Chess
DESCRIPTION:One round.  #1 seed plays #2\, 3 plays 4\, etc. \nEntry fee: $5\nEach winner gets $5.\n7pm.
URL:https://cincinnatichessclub.com/event/no-strings-attached-chess/
END:VEVENT
BEGIN:VEVENT
DTSTART;TZID=Asia/Karachi:20210819T190000
DTEND;TZID=Asia/Karachi:20210819T190000
DTSTAMP:20260422T114043
CREATED:20210714T110034Z
LAST-MODIFIED:20210714T110217Z
UID:4751-1629399600-1629399600@cincinnatichessclub.com
SUMMARY:Quick Chess
DESCRIPTION:4-round Swiss.\nGame in 24 minutes\, with 5-second delay. \nEntry fee: $15\n80% of entry fees awarded as prizes.
URL:https://cincinnatichessclub.com/event/quick-chess-14/
END:VEVENT
BEGIN:VEVENT
DTSTART;TZID=Asia/Karachi:20210826T190000
DTEND;TZID=Asia/Karachi:20210826T190000
DTSTAMP:20260422T114043
CREATED:20210714T110753Z
LAST-MODIFIED:20210714T110753Z
UID:4759-1630004400-1630004400@cincinnatichessclub.com
SUMMARY:ECO Tourney
DESCRIPTION:Play openings chosen at random!  Openings chosen by dice roll from the Encyclopedia of Chess Openings. \n4-round Swiss.\nGame in 15 minutes. \nEntry fee: $5\n80% of entry fees awarded as prizes.
URL:https://cincinnatichessclub.com/event/eco-tourney/
END:VEVENT
END:VCALENDAR