BEGIN:VCALENDAR
VERSION:2.0
PRODID:-//Cincinnati Chess Club - ECPv6.5.0//NONSGML v1.0//EN
CALSCALE:GREGORIAN
METHOD:PUBLISH
X-ORIGINAL-URL:https://cincinnatichessclub.com
X-WR-CALDESC:Events for Cincinnati Chess Club
REFRESH-INTERVAL;VALUE=DURATION:PT1H
X-Robots-Tag:noindex
X-PUBLISHED-TTL:PT1H
BEGIN:VTIMEZONE
TZID:Asia/Karachi
BEGIN:STANDARD
TZOFFSETFROM:+0500
TZOFFSETTO:+0500
TZNAME:PKT
DTSTART:20210101T000000
END:STANDARD
END:VTIMEZONE
BEGIN:VEVENT
DTSTART;TZID=Asia/Karachi:20211007T190000
DTEND;TZID=Asia/Karachi:20211007T230000
DTSTAMP:20260422T034433
CREATED:20210909T022402Z
LAST-MODIFIED:20210909T022402Z
UID:4804-1633633200-1633647600@cincinnatichessclub.com
SUMMARY:National Chess Day Celebration
DESCRIPTION:Join the Cincinnati Chess Club to celebrate National Chess Day!
URL:https://cincinnatichessclub.com/event/national-chess-day-celebration/
LOCATION:Deer Park Community Center\, 7640 Plainfield Road\, Cincinnati\, OH\, 45236\, United States
END:VEVENT
BEGIN:VEVENT
DTSTART;TZID=Asia/Karachi:20211008T181500
DTEND;TZID=Asia/Karachi:20211008T220000
DTSTAMP:20260422T034433
CREATED:20211007T113626Z
LAST-MODIFIED:20211007T113844Z
UID:4846-1633716900-1633730400@cincinnatichessclub.com
SUMMARY:City Championship Round 1
DESCRIPTION:First of six rounds\, Swiss System\, G/120;d5.  $40 entry fee\, USCF rated.  Registration is 6:15-6:45; games start at 7:00.
URL:https://cincinnatichessclub.com/event/2021-city-championship-round-1/
LOCATION:Municipal Building\, 7777 Blue Ash Road\, Cincinnati\, OH\, 45236\, United States
END:VEVENT
BEGIN:VEVENT
DTSTART;TZID=Asia/Karachi:20211014T193000
DTEND;TZID=Asia/Karachi:20211014T223000
DTSTAMP:20260422T034433
CREATED:20210916T065937Z
LAST-MODIFIED:20211015T063032Z
UID:4812-1634239800-1634250600@cincinnatichessclub.com
SUMMARY:Hand & Brain Tournament
DESCRIPTION:Four players play in teams of two.  One player names a piece\, the other moves a piece of that type anywhere legal. \nNo entry fee\, not rated.
URL:https://cincinnatichessclub.com/event/hand-brain-tournament/
LOCATION:Municipal Building\, 7777 Blue Ash Road\, Cincinnati\, OH\, 45236\, United States
END:VEVENT
BEGIN:VEVENT
DTSTART;TZID=Asia/Karachi:20211015T190000
DTEND;TZID=Asia/Karachi:20211015T220000
DTSTAMP:20260422T034433
CREATED:20211007T113725Z
LAST-MODIFIED:20211007T113746Z
UID:4848-1634324400-1634335200@cincinnatichessclub.com
SUMMARY:City Championship Round 2
DESCRIPTION:Second of six rounds\, Swiss System\, G/120;d5.  $40 entry fee\, USCF rated.
URL:https://cincinnatichessclub.com/event/2021-city-championship-round-2/
LOCATION:Municipal Building\, 7777 Blue Ash Road\, Cincinnati\, OH\, 45236\, United States
END:VEVENT
BEGIN:VEVENT
DTSTART;TZID=Asia/Karachi:20211021T193000
DTEND;TZID=Asia/Karachi:20211021T230000
DTSTAMP:20260422T034433
CREATED:20210923T053048Z
LAST-MODIFIED:20210923T053048Z
UID:4818-1634844600-1634857200@cincinnatichessclub.com
SUMMARY:Experience vs Youth
DESCRIPTION:The older players compete vs. the younger ones.  No entry fee\, not rated - this is just for fun.
URL:https://cincinnatichessclub.com/event/2021-oct-experience-vs-youth/
LOCATION:Deer Park Community Center\, 7640 Plainfield Road\, Cincinnati\, OH\, 45236\, United States
END:VEVENT
BEGIN:VEVENT
DTSTART;TZID=Asia/Karachi:20211022T190000
DTEND;TZID=Asia/Karachi:20211022T220000
DTSTAMP:20260422T034433
CREATED:20211007T113926Z
LAST-MODIFIED:20211007T113926Z
UID:4851-1634929200-1634940000@cincinnatichessclub.com
SUMMARY:City Championship Round 3
DESCRIPTION:Third of six rounds\, Swiss System\, G/120;d5.  $40 entry fee\, USCF rated.
URL:https://cincinnatichessclub.com/event/2021-city-championship-round-3/
LOCATION:Municipal Building\, 7777 Blue Ash Road\, Cincinnati\, OH\, 45236\, United States
END:VEVENT
BEGIN:VEVENT
DTSTART;TZID=Asia/Karachi:20211028T193000
DTEND;TZID=Asia/Karachi:20211028T223000
DTSTAMP:20260422T034433
CREATED:20210923T053240Z
LAST-MODIFIED:20210923T053240Z
UID:4820-1635449400-1635460200@cincinnatichessclub.com
SUMMARY:Blindfold Chess
DESCRIPTION:Play chess without the board.  Can you remember where all the pieces are?  No entry fee\, not rated - this is just for fun.
URL:https://cincinnatichessclub.com/event/2021-oct-blindfold-chess/
LOCATION:Deer Park Community Center\, 7640 Plainfield Road\, Cincinnati\, OH\, 45236\, United States
END:VEVENT
BEGIN:VEVENT
DTSTART;TZID=Asia/Karachi:20211029T190000
DTEND;TZID=Asia/Karachi:20211029T220000
DTSTAMP:20260422T034433
CREATED:20211007T114003Z
LAST-MODIFIED:20211007T114003Z
UID:4853-1635534000-1635544800@cincinnatichessclub.com
SUMMARY:City Championship Round 4
DESCRIPTION:Fourth of six rounds\, Swiss System\, G/120;d5.  $40 entry fee\, USCF rated.
URL:https://cincinnatichessclub.com/event/2021-city-championship-round-4/
LOCATION:Municipal Building\, 7777 Blue Ash Road\, Cincinnati\, OH\, 45236\, United States
END:VEVENT
END:VCALENDAR