BEGIN:VCALENDAR
VERSION:2.0
PRODID:-//Cincinnati Chess Club - ECPv6.5.0//NONSGML v1.0//EN
CALSCALE:GREGORIAN
METHOD:PUBLISH
X-ORIGINAL-URL:https://cincinnatichessclub.com
X-WR-CALDESC:Events for Cincinnati Chess Club
REFRESH-INTERVAL;VALUE=DURATION:PT1H
X-Robots-Tag:noindex
X-PUBLISHED-TTL:PT1H
BEGIN:VTIMEZONE
TZID:Asia/Karachi
BEGIN:STANDARD
TZOFFSETFROM:+0500
TZOFFSETTO:+0500
TZNAME:PKT
DTSTART:20220101T000000
END:STANDARD
END:VTIMEZONE
BEGIN:VEVENT
DTSTART;TZID=Asia/Karachi:20220106T190000
DTEND;TZID=Asia/Karachi:20220106T220000
DTSTAMP:20260421T202328
CREATED:20211231T101600Z
LAST-MODIFIED:20211231T101600Z
UID:4913-1641495600-1641506400@cincinnatichessclub.com
SUMMARY:January NSA
DESCRIPTION:One round\, G/60;d5. Seeded by rating. #1 seed plays #2\, 4 plays 3\, etc. Entry fee: $5 Each winner gets $5. 7pm.
URL:https://cincinnatichessclub.com/event/january-nsa/
LOCATION:Deer Park Community Center\, 7640 Plainfield Road\, Cincinnati\, OH\, 45236\, United States
END:VEVENT
BEGIN:VEVENT
DTSTART;TZID=Asia/Karachi:20220113T190000
DTEND;TZID=Asia/Karachi:20220113T220000
DTSTAMP:20260421T202328
CREATED:20211231T101754Z
LAST-MODIFIED:20211231T101754Z
UID:4915-1642100400-1642111200@cincinnatichessclub.com
SUMMARY:Casual Play
DESCRIPTION:Join us for casual gameplay.
URL:https://cincinnatichessclub.com/event/2021-january-casual-play/
LOCATION:Deer Park Community Center\, 7640 Plainfield Road\, Cincinnati\, OH\, 45236\, United States
END:VEVENT
BEGIN:VEVENT
DTSTART;TZID=Asia/Karachi:20220120T183000
DTEND;TZID=Asia/Karachi:20220120T220000
DTSTAMP:20260421T202328
CREATED:20220117T012435Z
LAST-MODIFIED:20220117T012456Z
UID:4931-1642703400-1642716000@cincinnatichessclub.com
SUMMARY:Annual Meeting
DESCRIPTION:We will be having our annual meeting\, including officer elections\, starting at 7 P.M.  During and after\, there will be casual play.
URL:https://cincinnatichessclub.com/event/2022-annual-meeting/
LOCATION:Deer Park Community Center\, 7640 Plainfield Road\, Cincinnati\, OH\, 45236\, United States
END:VEVENT
BEGIN:VEVENT
DTSTART;TZID=Asia/Karachi:20220127T183000
DTEND;TZID=Asia/Karachi:20220127T220000
DTSTAMP:20260421T202328
CREATED:20220117T011406Z
LAST-MODIFIED:20220117T011630Z
UID:4922-1643308200-1643320800@cincinnatichessclub.com
SUMMARY:Quick Chess Tournament
DESCRIPTION:We will be having a Quick Chess tournament.  Four rounds of G/24;d5\, Swiss System.  The entry fee is $15\, and 80% will be awarded as prizes. USCF membership is required\, but notation does not have to be kept.  Registration starts at 6:30 P.M.; games start at 7.
URL:https://cincinnatichessclub.com/event/2022-january-quick/
LOCATION:Deer Park Community Center\, 7640 Plainfield Road\, Cincinnati\, OH\, 45236\, United States
END:VEVENT
END:VCALENDAR