BEGIN:VCALENDAR
VERSION:2.0
PRODID:-//Cincinnati Chess Club - ECPv6.5.0//NONSGML v1.0//EN
CALSCALE:GREGORIAN
METHOD:PUBLISH
X-ORIGINAL-URL:https://cincinnatichessclub.com
X-WR-CALDESC:Events for Cincinnati Chess Club
REFRESH-INTERVAL;VALUE=DURATION:PT1H
X-Robots-Tag:noindex
X-PUBLISHED-TTL:PT1H
BEGIN:VTIMEZONE
TZID:Asia/Karachi
BEGIN:STANDARD
TZOFFSETFROM:+0500
TZOFFSETTO:+0500
TZNAME:PKT
DTSTART:20220101T000000
END:STANDARD
TZID:America/Detroit
BEGIN:DAYLIGHT
TZOFFSETFROM:-0500
TZOFFSETTO:-0400
TZNAME:EDT
DTSTART:20220313T070000
END:DAYLIGHT
BEGIN:STANDARD
TZOFFSETFROM:-0400
TZOFFSETTO:-0500
TZNAME:EST
DTSTART:20221106T060000
END:STANDARD
END:VTIMEZONE
BEGIN:VEVENT
DTSTART;TZID=Asia/Karachi:20220303T183000
DTEND;TZID=Asia/Karachi:20220303T230000
DTSTAMP:20260421T130110
CREATED:20220211T084827Z
LAST-MODIFIED:20220211T084827Z
UID:5017-1646332200-1646348400@cincinnatichessclub.com
SUMMARY:"No Strings Attached" Chess
DESCRIPTION:Join us for one game of G/90;d5.  #1 seed plays #2\, 3 plays 4\, etc.  Registration starts at 6:30 P.M. and games start at 7. \nThis is a rated game; USCF membership is required\, and notation must be kept.  If you have never played a Regular time control before\, this is a great way to get a feel for it. \nThe entry fee $5\, and each game's winner gets their fee refunded. \nAs always\, if you do not wish to play\, there will be casual boards set up.  Please note that during the rated games\, a quiet atmosphere is expected.
URL:https://cincinnatichessclub.com/event/2022-march-nsa/
LOCATION:Deer Park Community Center\, 7640 Plainfield Road\, Cincinnati\, OH\, 45236\, United States
END:VEVENT
BEGIN:VEVENT
DTSTART;TZID=Asia/Karachi:20220310T183000
DTEND;TZID=Asia/Karachi:20220310T220000
DTSTAMP:20260421T130110
CREATED:20220117T011511Z
LAST-MODIFIED:20220117T011511Z
UID:4924-1646937000-1646949600@cincinnatichessclub.com
SUMMARY:Quick Chess
DESCRIPTION:We will be having a Quick Chess tournament.  Four rounds of G/24;d5\, Swiss System.  The entry fee is $15\, and 80% will be awarded as prizes. USCF membership is required\, but notation does not have to be kept.  Registration starts at 6:30 P.M.; games start at 7.
URL:https://cincinnatichessclub.com/event/2022-march-quick/
LOCATION:Deer Park Community Center\, 7640 Plainfield Road\, Cincinnati\, OH\, 45236\, United States
END:VEVENT
BEGIN:VEVENT
DTSTART;TZID=America/Detroit:20220317T183000
DTEND;TZID=America/Detroit:20220317T230000
DTSTAMP:20260421T130110
CREATED:20220316T024852Z
LAST-MODIFIED:20220316T024852Z
UID:5027-1647541800-1647558000@cincinnatichessclub.com
SUMMARY:ECO Tournament
DESCRIPTION:Try your luck playing random openings.  We'll pick them from an opening book\, and start playing. \nThere will be 5 rounds\, 10+5 time control\, $5 entry fee.  This is not rated\, and does not require any membership. \nAs always\, there will be casual play.
URL:https://cincinnatichessclub.com/event/2022-march-eco-tourney/
LOCATION:Deer Park Community Center\, 7640 Plainfield Road\, Cincinnati\, OH\, 45236\, United States
END:VEVENT
BEGIN:VEVENT
DTSTART;TZID=Asia/Karachi:20220324T183000
DTEND;TZID=Asia/Karachi:20220324T223000
DTSTAMP:20260421T130110
CREATED:20220211T083949Z
LAST-MODIFIED:20220211T083949Z
UID:5000-1648146600-1648161000@cincinnatichessclub.com
SUMMARY:Casual Play
DESCRIPTION:Join us for casual gameplay.
URL:https://cincinnatichessclub.com/event/2022-march-casual/
LOCATION:Deer Park Community Center\, 7640 Plainfield Road\, Cincinnati\, OH\, 45236\, United States
END:VEVENT
BEGIN:VEVENT
DTSTART;TZID=America/Detroit:20220331T183000
DTEND;TZID=America/Detroit:20220331T230000
DTSTAMP:20260421T130110
CREATED:20220319T234355Z
LAST-MODIFIED:20220319T234355Z
UID:5031-1648751400-1648767600@cincinnatichessclub.com
SUMMARY:Fischerandom Tournament
DESCRIPTION:In Fischerandom\, the arrangement of the pieces chosen at random\, subject to the king being between the rooks and the bishops on each color.  This give 960 possible starting positions.  Fischerandom removes opening preparation from the game and relies on opening principles - playing it is a great way to practice these. \nThis tournament will have five rounds.  Each player in the round gets the same piece arrangement.  Time control is 10+5.  Entry fee is $5\, and the games are not rated.  Notation and USCF membership are not required.  80% of the entry fees are awarded as prizes.  Games start at 7:30 P.M.
URL:https://cincinnatichessclub.com/event/2022-march-fischerandom/
LOCATION:Deer Park Community Center\, 7640 Plainfield Road\, Cincinnati\, OH\, 45236\, United States
END:VEVENT
END:VCALENDAR