BEGIN:VCALENDAR
VERSION:2.0
PRODID:-//Cincinnati Chess Club - ECPv6.5.0//NONSGML v1.0//EN
CALSCALE:GREGORIAN
METHOD:PUBLISH
X-WR-CALNAME:Cincinnati Chess Club
X-ORIGINAL-URL:https://cincinnatichessclub.com
X-WR-CALDESC:Events for Cincinnati Chess Club
REFRESH-INTERVAL;VALUE=DURATION:PT1H
X-Robots-Tag:noindex
X-PUBLISHED-TTL:PT1H
BEGIN:VTIMEZONE
TZID:Asia/Karachi
BEGIN:STANDARD
TZOFFSETFROM:+0500
TZOFFSETTO:+0500
TZNAME:PKT
DTSTART:20220101T000000
END:STANDARD
TZID:America/Detroit
BEGIN:DAYLIGHT
TZOFFSETFROM:-0500
TZOFFSETTO:-0400
TZNAME:EDT
DTSTART:20220313T070000
END:DAYLIGHT
BEGIN:STANDARD
TZOFFSETFROM:-0400
TZOFFSETTO:-0500
TZNAME:EST
DTSTART:20221106T060000
END:STANDARD
END:VTIMEZONE
BEGIN:VEVENT
DTSTART;TZID=Asia/Karachi:20220505T183000
DTEND;TZID=Asia/Karachi:20220505T223000
DTSTAMP:20260421T093346
CREATED:20220211T084205Z
LAST-MODIFIED:20220211T084205Z
UID:5006-1651775400-1651789800@cincinnatichessclub.com
SUMMARY:Casual Play
DESCRIPTION:Join us for casual gameplay.
URL:https://cincinnatichessclub.com/event/2022-may-5-casual/
LOCATION:Deer Park Community Center\, 7640 Plainfield Road\, Cincinnati\, OH\, 45236\, United States
END:VEVENT
BEGIN:VEVENT
DTSTART;TZID=America/Detroit:20220506T190000
DTEND;TZID=America/Detroit:20220506T223000
DTSTAMP:20260421T093346
CREATED:20220319T235347Z
LAST-MODIFIED:20220319T235524Z
UID:5041-1651863600-1651876200@cincinnatichessclub.com
SUMMARY:2022 Club Championship (Round 4/5)
DESCRIPTION:Join us for the 2022 Cincinnati Chess Club Championship.  We play one game per week\, on Friday nights\, at the Deer Park Municipal Building\, not our usual location.  Tonight is the fourth of five rounds. \nThe tournament is five rounds of Swiss System\, with a time control of G/90;d5.  As such\, you must take notation.  These games are USCF-rated\, and require both USCF and Cincinnati Chess Club memberships.  Games begin precisely at 7 P.M.  Registration is the first night\, from 6:15 to 6:45. \nEntry fee is $30\, and 80% of entries will be awarded as prizes.  There are two sections: Open\, and Under 1600.
URL:https://cincinnatichessclub.com/event/2022-club-championship-4/
LOCATION:Municipal Building\, 7777 Blue Ash Road\, Cincinnati\, OH\, 45236\, United States
END:VEVENT
BEGIN:VEVENT
DTSTART;TZID=Asia/Karachi:20220512T183000
DTEND;TZID=Asia/Karachi:20220512T223000
DTSTAMP:20260421T093346
CREATED:20220211T084239Z
LAST-MODIFIED:20220211T084239Z
UID:5008-1652380200-1652394600@cincinnatichessclub.com
SUMMARY:Casual Play
DESCRIPTION:Join us for casual gameplay.
URL:https://cincinnatichessclub.com/event/2022-may-12-casual/
LOCATION:Deer Park Community Center\, 7640 Plainfield Road\, Cincinnati\, OH\, 45236\, United States
END:VEVENT
BEGIN:VEVENT
DTSTART;TZID=America/Detroit:20220513T190000
DTEND;TZID=America/Detroit:20220513T223000
DTSTAMP:20260421T093346
CREATED:20220319T235451Z
LAST-MODIFIED:20220319T235451Z
UID:5043-1652468400-1652481000@cincinnatichessclub.com
SUMMARY:2022 Club Championship (Round 5/5)
DESCRIPTION:Join us for the 2022 Cincinnati Chess Club Championship.  We play one game per week\, on Friday nights\, at the Deer Park Municipal Building\, not our usual location.  Tonight is the last of five rounds. \nThe tournament is five rounds of Swiss System\, with a time control of G/90;d5.  As such\, you must take notation.  These games are USCF-rated\, and require both USCF and Cincinnati Chess Club memberships.  Games begin precisely at 7 P.M.  Registration is the first night\, from 6:15 to 6:45. \nEntry fee is $30\, and 80% of entries will be awarded as prizes.  There are two sections: Open\, and Under 1600.
URL:https://cincinnatichessclub.com/event/2022-club-championship-5/
LOCATION:Municipal Building\, 7777 Blue Ash Road\, Cincinnati\, OH\, 45236\, United States
END:VEVENT
BEGIN:VEVENT
DTSTART;TZID=Asia/Karachi:20220526T183000
DTEND;TZID=Asia/Karachi:20220526T223000
DTSTAMP:20260421T093346
CREATED:20220211T084314Z
LAST-MODIFIED:20220407T212729Z
UID:5010-1653589800-1653604200@cincinnatichessclub.com
SUMMARY:Stan Jackson Lecture
DESCRIPTION:Stan will be giving a lecture on creating an opening repertoire using Chessbase.  Chessbase is one of the most popular chess opening platforms. \nAs always\, casual play will be going on.
URL:https://cincinnatichessclub.com/event/2022-stan-lecture/
LOCATION:Deer Park Community Center\, 7640 Plainfield Road\, Cincinnati\, OH\, 45236\, United States
END:VEVENT
END:VCALENDAR