BEGIN:VCALENDAR
VERSION:2.0
PRODID:-//Cincinnati Chess Club - ECPv6.5.0//NONSGML v1.0//EN
CALSCALE:GREGORIAN
METHOD:PUBLISH
X-WR-CALNAME:Cincinnati Chess Club
X-ORIGINAL-URL:https://cincinnatichessclub.com
X-WR-CALDESC:Events for Cincinnati Chess Club
REFRESH-INTERVAL;VALUE=DURATION:PT1H
X-Robots-Tag:noindex
X-PUBLISHED-TTL:PT1H
BEGIN:VTIMEZONE
TZID:America/Detroit
BEGIN:DAYLIGHT
TZOFFSETFROM:-0500
TZOFFSETTO:-0400
TZNAME:EDT
DTSTART:20240310T070000
END:DAYLIGHT
BEGIN:STANDARD
TZOFFSETFROM:-0400
TZOFFSETTO:-0500
TZNAME:EST
DTSTART:20241103T060000
END:STANDARD
END:VTIMEZONE
BEGIN:VEVENT
DTSTART;TZID=America/Detroit:20240404T183000
DTEND;TZID=America/Detroit:20240404T230000
DTSTAMP:20260420T104404
CREATED:20240328T141657Z
LAST-MODIFIED:20240328T141715Z
UID:5664-1712255400-1712271600@cincinnatichessclub.com
SUMMARY:Casual Chess and Pizza
DESCRIPTION:Join us for casual gameplay\, as well as pizza for our club members.
URL:https://cincinnatichessclub.com/event/casual-chess-and-pizza-4/
LOCATION:Deer Park Community Center\, 7640 Plainfield Road\, Cincinnati\, OH\, 45236\, United States
END:VEVENT
BEGIN:VEVENT
DTSTART;TZID=America/Detroit:20240411T183000
DTEND;TZID=America/Detroit:20240411T230000
DTSTAMP:20260420T104404
CREATED:20240328T141515Z
LAST-MODIFIED:20240328T141527Z
UID:5662-1712860200-1712876400@cincinnatichessclub.com
SUMMARY:"No Strings Attached" Chess
DESCRIPTION:Join us for one game of G/65;d5. #1 seed plays #2\, 3 plays 4\, etc. Registration starts at 6:30 P.M. and games start at 7. \n\n\n\nThis is a rated game; USCF membership is required\, and notation must be kept. If you have never played a Regular time control before\, this is a great way to get a feel for it. \n\n\n\nThe entry fee $5 for Cincinnati Chess Club members and $10 for non-members\, and each game's winner gets $5 refunded. \n\n\n\nAs always\, if you do not wish to play\, there will be casual boards set up. Please note that during the rated games\, a quiet atmosphere is expected.
URL:https://cincinnatichessclub.com/event/no-strings-attached-chess-8/
LOCATION:Deer Park Community Center\, 7640 Plainfield Road\, Cincinnati\, OH\, 45236\, United States
END:VEVENT
BEGIN:VEVENT
DTSTART;TZID=America/Detroit:20240418T183000
DTEND;TZID=America/Detroit:20240418T230000
DTSTAMP:20260420T104404
CREATED:20240328T141913Z
LAST-MODIFIED:20240328T141928Z
UID:5666-1713465000-1713481200@cincinnatichessclub.com
SUMMARY:Quarterly Meeting / Casual Play
DESCRIPTION:Our fourth-quarter meeting will start at 7:00 P.M.  All members are welcome to participate. \n\n\n\nThere will be casual play going all night.
URL:https://cincinnatichessclub.com/event/quarterly-meeting-casual-play-3/
LOCATION:Deer Park Community Center\, 7640 Plainfield Road\, Cincinnati\, OH\, 45236\, United States
END:VEVENT
BEGIN:VEVENT
DTSTART;TZID=America/Detroit:20240425T183000
DTEND;TZID=America/Detroit:20240425T230000
DTSTAMP:20260420T104404
CREATED:20240328T142149Z
LAST-MODIFIED:20240328T142149Z
UID:5669-1714069800-1714086000@cincinnatichessclub.com
SUMMARY:Tandem Chess
DESCRIPTION:Tandem Chess is a fun way to play team chess.  Two (or more) people all play each side's pieces\, but each person makes one move\, then waits for everyone else on the team to also make a move before their next turn.  The board may look completely different by the time you get back up to make a move! \n\n\n\nThere's no entry fee\, and it's not rated - time control is G/10;d10 to allow you to think a bit on each move. \n\n\n\nAs always\, there will be casual chess all night.
URL:https://cincinnatichessclub.com/event/tandem-chess-2/
LOCATION:Deer Park Community Center\, 7640 Plainfield Road\, Cincinnati\, OH\, 45236\, United States
END:VEVENT
END:VCALENDAR